BEGIN:VCALENDAR
VERSION:2.0
PRODID:-//eventon.com NONSGML v1.0//EN
CALSCALE:GREGORIAN
METHOD:PUBLISH
BEGIN:VEVENT
UID:69e9ea2d3151f
DTSTAMP:20260423T044517
DTSTART:20240326T190000Z
DTEND:20240326T210000Z
TZID:America/New_York
LOCATION:
SUMMARY:Construct-Her
DESCRIPTION:We are excited to announce our Partnership Event with NAWIC Greater New York Chapter 240 and NAWBO NYC. Together we share the same mission of empowering and supporting women. We invite you to join us on March 26th\,  from 7:00 pm to 9:00 pm\,  online&nbsp;for an enriching event tailored for[..]\nhttps://nawbonyc.org/event/https-www-eventbrite-com-e-construct-her-follow-up-classes-class-3-tickets-863839967597affebdsoporgprofile/var/event_access
URL:https://nawbonyc.org/event/https-www-eventbrite-com-e-construct-her-follow-up-classes-class-3-tickets-863839967597affebdsoporgprofile/var/event_access
END:VEVENT
END:VCALENDAR