BEGIN:VCALENDAR
VERSION:2.0
PRODID:-//eventon.com NONSGML v1.0//EN
CALSCALE:GREGORIAN
METHOD:PUBLISH
BEGIN:VEVENT
UID:69e5e87c9d8a8
DTSTAMP:20260420T034900
DTSTART:20230228T153000Z
DTEND:20230228T170000Z
TZID:America/New_York
LOCATION:
SUMMARY:Create Your 90-Day Content Plan
DESCRIPTION:Register Here Join us for our upcoming workshop where you&#8217;ll be given templates\,  topics\,  and over 90 days of content to build your marketing plan. Our speaker will help you align your message with social media posts\,  blog ideas\,  story/LIVE scripts and will give you a 90-Day editorial calendar. In[..]\nhttps://nawbonyc.org/event/create-your-90-day-content-plan
URL:https://nawbonyc.org/event/create-your-90-day-content-plan
END:VEVENT
END:VCALENDAR