BEGIN:VCALENDAR
VERSION:2.0
PRODID:-//eventon.com NONSGML v1.0//EN
CALSCALE:GREGORIAN
METHOD:PUBLISH
BEGIN:VEVENT
UID:69e886c054463
DTSTAMP:20260422T032848
DTSTART:20210621T183000Z
DTEND:20210621T200000Z
TZID:Pacific/Midway
LOCATION:
SUMMARY:Conversation & Connections
DESCRIPTION:Register in advance for this meeting. After registering\,  you will receive a confirmation email containing information about joining the meeting. Members\,  please use your personal promo code when registering to ensure that you receive your discount. Your code is your FirstNameLastName (no spaces) ie: MarySmith &#8212;&#8212;&#8212;&#8212;&#8212;&#8212;&#8212;&#8212;&#8212;&#8212;&#8212;&#8212;&#8212;&#8212;&#8212;&#8212;&#8212;&#8212;&#8212;&#8212;- Want to get your[..]\nhttps://nawbonyc.org/event/conversation-connections
URL:https://nawbonyc.org/event/conversation-connections
END:VEVENT
END:VCALENDAR