BEGIN:VCALENDAR
VERSION:2.0
PRODID:-//eventon.com NONSGML v1.0//EN
CALSCALE:GREGORIAN
METHOD:PUBLISH
BEGIN:VEVENT
UID:69e5ff20a829f
DTSTAMP:20260420T052536
DTSTART:20200603T130000Z
DTEND:20200603T134500Z
TZID:America/New_York
LOCATION:
SUMMARY:NAWBO Nat'l Webinar: SBA Update of Supporting Small Business Owners during COVID19
DESCRIPTION:Register today Please join the U.S. SBA Associate Administrator Allen Gutierrez for an update on the work that the SBA is currently doing in support of business owners during the COVID-19 pandemic and how the Administration is looking to ensure the health and viability of America&#8217;s small business community in[..]\nhttps://nawbonyc.org/event/sba-update-of-supporting-small-business-owners-during-covid19
URL:https://nawbonyc.org/event/sba-update-of-supporting-small-business-owners-during-covid19
END:VEVENT
END:VCALENDAR