BEGIN:VCALENDAR
VERSION:2.0
PRODID:-//eventon.com NONSGML v1.0//EN
CALSCALE:GREGORIAN
METHOD:PUBLISH
BEGIN:VEVENT
UID:69e898895a637
DTSTAMP:20260422T044441
DTSTART:20200603T110000Z
DTEND:20200603T114500Z
TZID:America/New_York
LOCATION:
SUMMARY:NAWBO Nat'l Webinar: Facebook - How E-Commerce helps Women Business Owners
DESCRIPTION:Register today NAWBO members will have the opportunity to hear from representatives from Facebook and NAWBO Board Members on how e-commerce has become an important tool for the success of Women business owners. Join us for a discussion with Diana Doukas\,  Manager for Economic Impact at Facebook and NAWBO member\, [..]\nhttps://nawbonyc.org/event/facebook-how-e-commerce-helps-women-business-owners
URL:https://nawbonyc.org/event/facebook-how-e-commerce-helps-women-business-owners
END:VEVENT
END:VCALENDAR