BEGIN:VCALENDAR
VERSION:2.0
PRODID:-//eventon.com NONSGML v1.0//EN
CALSCALE:GREGORIAN
METHOD:PUBLISH
BEGIN:VEVENT
UID:69e5e8674d890
DTSTAMP:20260420T034839
DTSTART:20200508T160000Z
DTEND:20200508T170000Z
TZID:America/New_York
LOCATION:
SUMMARY:Cocktail Connections - Virtual Networking
DESCRIPTION:Register now Virtual networking happy hour with NAWBO NYC. About this Event We invite you to connect with NAWBO NYC ! Attendance is free and open to all. We will mix\,  mingle\,  and network with like-minded\,  inspired\,  and inspiring Women Business Owners while respecting social distancing. For each event we[..]\nhttps://nawbonyc.org/event/cocktail-connections-virtual-networking-2
URL:https://nawbonyc.org/event/cocktail-connections-virtual-networking-2
END:VEVENT
END:VCALENDAR