BEGIN:VCALENDAR
VERSION:2.0
PRODID:-//eventon.com NONSGML v1.0//EN
CALSCALE:GREGORIAN
METHOD:PUBLISH
BEGIN:VEVENT
UID:69e8879cc6184
DTSTAMP:20260422T033228
DTSTART:20200429T150000Z
DTEND:20200429T160000Z
TZID:America/New_York
LOCATION:
SUMMARY:Community Connections | What In the World Is a Force Majeure?
DESCRIPTION:What In the World Is a Force Majeure? Legal and Business Decision Making During the Pandemic About this Event This session will answer business law questions that people are asking most during the pandemic and then describe how to use that knowledge as part of your business decision making. Do[..]\nhttps://nawbonyc.org/event/community-connections-what-in-the-world-is-a-force-majeure
URL:https://nawbonyc.org/event/community-connections-what-in-the-world-is-a-force-majeure
END:VEVENT
END:VCALENDAR