BEGIN:VCALENDAR
VERSION:2.0
PRODID:-//eventon.com NONSGML v1.0//EN
CALSCALE:GREGORIAN
METHOD:PUBLISH
BEGIN:VEVENT
UID:69e5e6c13464a
DTSTAMP:20260420T034137
DTSTART:20200601
DTEND:20200604
TZID:America/New_York
LOCATION:
SUMMARY:June 2020 Washington DC Events
DESCRIPTION:National Conferences &amp; Events\nhttps://nawbonyc.org/event/june-2020-washington-dc-events
URL:https://nawbonyc.org/event/june-2020-washington-dc-events
END:VEVENT
END:VCALENDAR