BEGIN:VCALENDAR
VERSION:2.0
PRODID:-//eventon.com NONSGML v1.0//EN
CALSCALE:GREGORIAN
METHOD:PUBLISH
BEGIN:VEVENT
UID:69e5e776991a7
DTSTAMP:20260420T034438
DTSTART:20200218T120000Z
DTEND:20200218T130000Z
TZID:America/New_York
LOCATION:
SUMMARY:February Advocacy Call: Meeting Your Advocacy Goals
DESCRIPTION:The February call will take place&nbsp;Tuesday\,  February 18\,  2020 at 12PM ET/9AM PT.&nbsp;&nbsp;&nbsp; This month’s call will focus on how to meet your Advocacy goals for 2020. It will also provide an update on activity in Washington\,  D.C. and NAWBO supported legislation. Please use these call-in details to join the[..]\nhttps://nawbonyc.org/event/february-advocacy-call-meeting-your-advocacy-goals
URL:https://nawbonyc.org/event/february-advocacy-call-meeting-your-advocacy-goals
END:VEVENT
END:VCALENDAR