BEGIN:VCALENDAR
VERSION:2.0
PRODID:-//eventon.com NONSGML v1.0//EN
CALSCALE:GREGORIAN
METHOD:PUBLISH
BEGIN:VEVENT
UID:69e9ecc3b6205
DTSTAMP:20260423T045619
DTSTART:20191216T180000Z
DTEND:20191216T200000Z
TZID:America/New_York
LOCATION:
SUMMARY:Holiday Party: Sips\,  Sweets and Shopping
DESCRIPTION:JOIN US FOR A HOLIDAY SHOPPING PARTY! Register Here &nbsp; About this Event JOIN US FOR A HOLIDAY SHOPPING PARTY! Join NAWBO NYC on December 16th for our annual holiday party at Kendra Scott’s newest store in SOHO. There will be sips\,  sweets and jewelry! Guests will receive 15% off[..]\nhttps://nawbonyc.org/event/holiday-party-sips-sweets-and-shopping
URL:https://nawbonyc.org/event/holiday-party-sips-sweets-and-shopping
END:VEVENT
END:VCALENDAR