BEGIN:VCALENDAR
VERSION:2.0
PRODID:-//eventon.com NONSGML v1.0//EN
CALSCALE:GREGORIAN
METHOD:PUBLISH
BEGIN:VEVENT
UID:69e5fabea91bb
DTSTAMP:20260420T050654
DTSTART:20191105T120000Z
DTEND:20191105T133000Z
TZID:America/New_York
LOCATION:
SUMMARY:November Lunch & Learn: Run your business\,  DON'T let it run you!
DESCRIPTION:Heleen&nbsp;Y. Westerhuijs — certified Executive Coach with a background in positive psychology&nbsp;sourcing from Neuroeconomics\,  Mindfulness\,  Quantum Physics\,  and straightforward business coaching practices — will take you on a self-discovering journey into who you are as the leader of your business and the leader of your life.&nbsp; This month\,  we will[..]\nhttps://nawbonyc.org/event/november-lunch-learn-run-your-business-dont-let-it-run-you
URL:https://nawbonyc.org/event/november-lunch-learn-run-your-business-dont-let-it-run-you
END:VEVENT
END:VCALENDAR