BEGIN:VCALENDAR
VERSION:2.0
PRODID:-//eventon.com NONSGML v1.0//EN
CALSCALE:GREGORIAN
METHOD:PUBLISH
BEGIN:VEVENT
UID:69e61112b0eff
DTSTAMP:20260420T064210
DTSTART:20191021T180000Z
DTEND:20191021T200000Z
TZID:America/New_York
LOCATION:
SUMMARY:Women in Business Bites
DESCRIPTION:Register Here Want to get your networking on and don&#8217;t know where to start? Come join us at a fun and casual networking event. NAWBO is partnering with Asentiv New York to start a new series called Women in Business Bites. It will be fun and light\,  and you will[..]\nhttps://nawbonyc.org/event/women-in-business-bites-2
URL:https://nawbonyc.org/event/women-in-business-bites-2
END:VEVENT
END:VCALENDAR