BEGIN:VCALENDAR
VERSION:2.0
PRODID:-//eventon.com NONSGML v1.0//EN
CALSCALE:GREGORIAN
METHOD:PUBLISH
BEGIN:VEVENT
UID:69e9d8695136e
DTSTAMP:20260423T032929
DTSTART:20191114T170000Z
DTEND:20191114T180000Z
TZID:America/New_York
LOCATION:
SUMMARY:Virtual Connect & Learn: 4 Tenets of Organizing
DESCRIPTION:A professional organizer since 2005\,  Aly Luccari\,  with Bright Organizing Solution\,  LLC has mastered the task of helping others let go of the unimportant. Through empowerment and guides to decision making\,  she will dive deep into her own 4 Tenets of Organizing so one can use them to let go[..]\nhttps://nawbonyc.org/event/virtual-connect-learn-4-tenets-of-organizing
URL:https://nawbonyc.org/event/virtual-connect-learn-4-tenets-of-organizing
END:VEVENT
END:VCALENDAR