BEGIN:VCALENDAR
VERSION:2.0
PRODID:-//eventon.com NONSGML v1.0//EN
CALSCALE:GREGORIAN
METHOD:PUBLISH
BEGIN:VEVENT
UID:69e5fe8a6cccc
DTSTAMP:20260420T052306
DTSTART:20190312T080000Z
DTEND:20190312T103000Z
TZID:America/New_York
LOCATION:
SUMMARY:March Facilitated Breakfast Networking: Curated Conversations
DESCRIPTION:TIME TO NETWORK&nbsp;OVER BREAKFAST! REGISTER TODAY Join us for our Facilitated Networking Breakfast. As business owners\,  we all crave true connection with others who have “been there and done that.” This structured breakfast meeting will provide the opportunity to meet in different small groups with like-minded businesswomen to share experiences[..]\nhttps://nawbonyc.org/event/march-facilitated-breakfast-networking-curated-conversations
URL:https://nawbonyc.org/event/march-facilitated-breakfast-networking-curated-conversations
END:VEVENT
END:VCALENDAR