BEGIN:VCALENDAR
VERSION:2.0
PRODID:-//eventon.com NONSGML v1.0//EN
CALSCALE:GREGORIAN
METHOD:PUBLISH
BEGIN:VEVENT
UID:69e887f93e5cf
DTSTAMP:20260422T033401
DTSTART:20190604T080000Z
DTEND:20190604T200000Z
TZID:America/New_York
LOCATION:
SUMMARY:NAWBO Advocacy Day - 2019
DESCRIPTION:NAWBO’s annual Advocacy Day provides you with the opportunity to – Learn about and weigh in on the issues impacting your businesses Share and discuss best advocacy practices with fellow NAWBO members\,  and Ensure that your voice is heard with decision-makers in Congress and the President&#8217;s Administration We will meet[..]\nhttps://nawbonyc.org/event/nawbo-advocacy-day-2019
URL:https://nawbonyc.org/event/nawbo-advocacy-day-2019
END:VEVENT
END:VCALENDAR