BEGIN:VCALENDAR
VERSION:2.0
PRODID:-//eventon.com NONSGML v1.0//EN
CALSCALE:GREGORIAN
METHOD:PUBLISH
BEGIN:VEVENT
UID:69e89cd489f9c
DTSTAMP:20260422T050300
DTSTART:20181022
DTEND:20181023
TZID:America/New_York
LOCATION:
SUMMARY:The 66th FCEM World Congress Russia
DESCRIPTION:All the information about the Congress and the Registration Form can be found&nbsp;on the&nbsp;official website of the 66th World Congress in Russia&nbsp;www.fcemrussia.com&nbsp; The deadline for early bird pricing for the 66thWorld Congress of FCEM&nbsp;is August 1st.&nbsp;To purchase tickets\,  go&nbsp;here.&nbsp;Please let us know if you plan to attend\,  and contact Becky[..]\nhttps://nawbonyc.org/event/the-66th-fcem-world-congress-russia
URL:https://nawbonyc.org/event/the-66th-fcem-world-congress-russia
END:VEVENT
END:VCALENDAR