BEGIN:VCALENDAR
VERSION:2.0
PRODID:-//eventon.com NONSGML v1.0//EN
CALSCALE:GREGORIAN
METHOD:PUBLISH
BEGIN:VEVENT
UID:69e886eee1f96
DTSTAMP:20260422T032934
DTSTART:20180116T120000Z
DTEND:20180116T130000Z
TZID:America/New_York
LOCATION:
SUMMARY:Advocacy Webinar: Board and CEO Searching featuring Keith Meyer
DESCRIPTION:To sign up to the advocacy webinar click here! Keith Meyer\,  the Global Practice Leader of the&nbsp;CEO &amp; Board Practice\,  has nearly 20 years of global experience developing innovative corporate governance and senior leadership solutions for Fortune 500\,  mid-cap and not-for-profit organizations\,  as well as personally leading numerous CEO and[..]\nhttps://nawbonyc.org/event/advocacy-webinar-board-and-ceo-searching-featuring-keith-meyer
URL:https://nawbonyc.org/event/advocacy-webinar-board-and-ceo-searching-featuring-keith-meyer
END:VEVENT
END:VCALENDAR