BEGIN:VCALENDAR
VERSION:2.0
PRODID:-//eventon.com NONSGML v1.0//EN
CALSCALE:GREGORIAN
METHOD:PUBLISH
BEGIN:VEVENT
UID:69e88820b34d6
DTSTAMP:20260422T033440
DTSTART:20170412T080000Z
DTEND:20170412T100000Z
TZID:America/New_York
LOCATION:
SUMMARY:Business Brainstorming Breakfast
DESCRIPTION:TIME TO BRAINSTORM OVER BREAKFAST AGAIN! REGISTER TODAY Join us for our April Business Networking Breakfast &#8211; limited to 20 attendees so first come first served! As businesses we often run into bumps in the road and need some real support. During this breakfast meeting there will be the opportunity to[..]\nhttps://nawbonyc.org/event/business-brainstorming-breakfast-3
URL:https://nawbonyc.org/event/business-brainstorming-breakfast-3
END:VEVENT
END:VCALENDAR